{
 "currentVersion": 11.2,
 "serviceDescription": "wpsgnPublic/HazardousFuelTypes",
 "name": "wpsgnPublic/HazardousFuelTypes",
 "description": "",
 "extent": {
  "xmin": 1124961.834152753,
  "ymin": 1.1943711922673251E7,
  "xmax": 1494335.5474651319,
  "ymax": 1.2246586982920945E7,
  "spatialReference": {
   "wkid": 3162,
   "latestWkid": 3162
  }
 },
 "initialExtent": {
  "xmin": 1124961.834152753,
  "ymin": 1.1943711922673251E7,
  "xmax": 1494335.5474651319,
  "ymax": 1.2246586982920945E7,
  "spatialReference": {
   "wkid": 3162,
   "latestWkid": 3162
  }
 },
 "fullExtent": {
  "xmin": 1124961.834152753,
  "ymin": 1.1943711922673251E7,
  "xmax": 1494335.5474651319,
  "ymax": 1.2246586982920945E7,
  "spatialReference": {
   "wkid": 3162,
   "latestWkid": 3162
  }
 },
 "sortableFields": "",
 "bandCount": 1,
 "pixelType": "U16",
 "minValues": [
  2
 ],
 "maxValues": [
  675
 ],
 "meanValues": [
  272.14813255331774
 ],
 "stdvValues": [
  298.6660105087407
 ],
 "hasMultidimensions": false,
 "pixelSizeX": 109.76930559060293,
 "pixelSizeY": 116.13307524834862,
 "meanPixelSize": 112.95119041947578,
 "datasetFormat": "SDR",
 "uncompressedSize": 17551840,
 "blockWidth": 128,
 "blockHeight": 128,
 "compressionType": "NONE",
 "bandNames": [
  "Band_1"
 ],
 "allowCopy": true,
 "allowAnalysis": true,
 "itemAccess": false,
 "inspectionCapabilities": "",
 "minPixelSize": 0,
 "maxPixelSize": 0,
 "copyrightText": "",
 "serviceDataType": "esriImageServiceDataTypeThematic",
 "serviceSourceType": "esriImageServiceSourceTypeDataset",
 "objectIdField": "",
 "fields": [],
 "capabilities": "Image,Metadata,Pixels",
 "defaultMosaicMethod": "Center",
 "allowedMosaicMethods": "",
 "sortField": "",
 "sortValue": null,
 "sortAscending": true,
 "mosaicOperator": "First",
 "defaultCompressionQuality": 75,
 "defaultResamplingMethod": "Nearest",
 "maxImageHeight": 4100,
 "maxImageWidth": 15000,
 "allowRasterFunction": true,
 "rasterFunctionInfos": [
  {
   "name": "None",
   "description": "",
   "help": ""
  }
 ],
 "rasterTypeInfos": [
  {
   "name": "Raster Dataset",
   "description": "Supports all ArcGIS Raster Datasets",
   "help": ""
  }
 ],
 "mensurationCapabilities": "Basic",
 "hasHistograms": true,
 "hasColormap": false,
 "hasRasterAttributeTable": true,
 "minScale": 0,
 "maxScale": 0,
 "exportTilesAllowed": false,
 "supportsStatistics": false,
 "supportsAdvancedQueries": false,
 "editFieldsInfo": null,
 "ownershipBasedAccessControlForRasters": null,
 "allowComputeTiePoints": false,
 "useStandardizedQueries": true,
 "advancedQueryCapabilities": {
  "useStandardizedQueries": true,
  "supportsStatistics": false,
  "supportsOrderBy": false,
  "supportsDistinct": false,
  "supportsPagination": false
 },
 "spatialReference": {
  "wkid": 3162,
  "latestWkid": 3162
 }
}
