View In:
ArcGIS JavaScript
ArcGIS Online Map Viewer
ArcGIS Earth
Service Description: wpsgnPublic/HazardousFuelTypes
Name: wpsgnPublic/HazardousFuelTypes
Description:
Single Fused Map Cache: false
Extent:
XMin: 1124961.834152753
YMin: 1.1943711922673251E7
XMax: 1494335.5474651319
YMax: 1.2246586982920945E7
Spatial Reference: 3162
(3162)
Initial Extent:
XMin: 1124961.834152753
YMin: 1.1943711922673251E7
XMax: 1494335.5474651319
YMax: 1.2246586982920945E7
Spatial Reference: 3162
(3162)
Full Extent:
XMin: 1124961.834152753
YMin: 1.1943711922673251E7
XMax: 1494335.5474651319
YMax: 1.2246586982920945E7
Spatial Reference: 3162
(3162)
Pixel Size X: 109.76930559060293
Pixel Size Y: 116.13307524834862
Band Count: 1
Pixel Type: U16
RasterFunction Infos: {"rasterFunctionInfos": [{
"name": "None",
"description": "",
"help": ""
}]}
Mensuration Capabilities: Basic
Inspection Capabilities:
Has Histograms: true
Has Colormap: false
Has Multi Dimensions : false
Rendering Rule:
Min Scale: 0
Max Scale: 0
Copyright Text:
Service Data Type: esriImageServiceDataTypeThematic
Min Values: 2
Max Values: 675
Mean Values: 272.14813255331774
Standard Deviation Values: 298.6660105087407
Object ID Field:
Fields:
None
Default Mosaic Method: Center
Allowed Mosaic Methods:
SortField:
SortValue: null
Mosaic Operator: First
Default Compression Quality: 75
Default Resampling Method: Nearest
Max Record Count: null
Max Image Height: 4100
Max Image Width: 15000
Max Download Image Count: null
Max Mosaic Image Count: null
Allow Raster Function: true
Allow Copy: true
Allow Analysis: true
Allow Compute TiePoints: false
Supports Statistics: false
Supports Advanced Queries: false
Use StandardizedQueries: true
Raster Type Infos:
Name: Raster Dataset
Description: Supports all ArcGIS Raster Datasets
Help:
Has Raster Attribute Table: true
Edit Fields Info: null
Ownership Based AccessControl For Rasters: null
Child Resources:
Info
Raster Attribute Table
Histograms
Statistics
Key Properties
Legend
Raster Function Infos
Supported Operations:
Export Image
Identify
Compute Histograms
Compute Statistics Histograms
Get Samples
Compute Class Statistics
Query Boundary
Compute Pixel Location
Compute Angles
Validate
Project